BEGIN:VCALENDAR
VERSION:2.0
PRODID:-//Garden City Downtown Vision - ECPv6.15.20//NONSGML v1.0//EN
CALSCALE:GREGORIAN
METHOD:PUBLISH
X-WR-CALNAME:Garden City Downtown Vision
X-ORIGINAL-URL:https://www.gcdowntown.com
X-WR-CALDESC:Events for Garden City Downtown Vision
REFRESH-INTERVAL;VALUE=DURATION:PT1H
X-Robots-Tag:noindex
X-PUBLISHED-TTL:PT1H
BEGIN:VTIMEZONE
TZID:America/Chicago
BEGIN:DAYLIGHT
TZOFFSETFROM:-0600
TZOFFSETTO:-0500
TZNAME:CDT
DTSTART:20220313T080000
END:DAYLIGHT
BEGIN:STANDARD
TZOFFSETFROM:-0500
TZOFFSETTO:-0600
TZNAME:CST
DTSTART:20221106T070000
END:STANDARD
BEGIN:DAYLIGHT
TZOFFSETFROM:-0600
TZOFFSETTO:-0500
TZNAME:CDT
DTSTART:20230312T080000
END:DAYLIGHT
BEGIN:STANDARD
TZOFFSETFROM:-0500
TZOFFSETTO:-0600
TZNAME:CST
DTSTART:20231105T070000
END:STANDARD
BEGIN:DAYLIGHT
TZOFFSETFROM:-0600
TZOFFSETTO:-0500
TZNAME:CDT
DTSTART:20240310T080000
END:DAYLIGHT
BEGIN:STANDARD
TZOFFSETFROM:-0500
TZOFFSETTO:-0600
TZNAME:CST
DTSTART:20241103T070000
END:STANDARD
END:VTIMEZONE
BEGIN:VEVENT
DTSTART;TZID=America/Chicago:20230414T110000
DTEND;TZID=America/Chicago:20230414T190000
DTSTAMP:20260419T210008
CREATED:20230224T183232Z
LAST-MODIFIED:20230322T055618Z
UID:10000140-1681470000-1681498800@www.gcdowntown.com
SUMMARY:Food Truck Friday
DESCRIPTION:Enjoy a variety of menus from your favorite food trucks while taking in the beautiful atmosphere of Stevens Park in the heart of Downtown. Come Hungry!
URL:https://www.gcdowntown.com/event/food-truck-friday/2023-04-14/
LOCATION:Stevens Park\, Stevens Park\, Garden City\, KS\, United States
CATEGORIES:Food Truck
ATTACH;FMTTYPE=image/png:https://www.gcdowntown.com/wp-content/uploads/2023/02/Food-Truck-Friday-Graphic-min.png
END:VEVENT
BEGIN:VEVENT
DTSTART;TZID=America/Chicago:20230412T093000
DTEND;TZID=America/Chicago:20230412T103000
DTSTAMP:20260419T210008
CREATED:20230308T165839Z
LAST-MODIFIED:20230403T035215Z
UID:10000075-1681291800-1681295400@www.gcdowntown.com
SUMMARY:Downtown Discovery - Craft and Activities at Garden City Arts
DESCRIPTION:Join us the second Wednesday of every month for Craft and Activities at Garden City Arts!
URL:https://www.gcdowntown.com/event/craft-and-activities-at-garden-city-arts/2023-04-12/
LOCATION:Garden City Arts\, 318 N Main St\, Garden City\, KS\, 67846\, United States
CATEGORIES:Arts & Crafts
ATTACH;FMTTYPE=image/jpeg:https://www.gcdowntown.com/wp-content/uploads/2023/03/arts-and-crafts.jpg
END:VEVENT
BEGIN:VEVENT
DTSTART;TZID=America/Chicago:20230407T110000
DTEND;TZID=America/Chicago:20230407T190000
DTSTAMP:20260419T210008
CREATED:20230224T183232Z
LAST-MODIFIED:20230322T055618Z
UID:10000139-1680865200-1680894000@www.gcdowntown.com
SUMMARY:Food Truck Friday
DESCRIPTION:Enjoy a variety of menus from your favorite food trucks while taking in the beautiful atmosphere of Stevens Park in the heart of Downtown. Come Hungry!
URL:https://www.gcdowntown.com/event/food-truck-friday/2023-04-07/
LOCATION:Stevens Park\, Stevens Park\, Garden City\, KS\, United States
CATEGORIES:Food Truck
ATTACH;FMTTYPE=image/png:https://www.gcdowntown.com/wp-content/uploads/2023/02/Food-Truck-Friday-Graphic-min.png
END:VEVENT
BEGIN:VEVENT
DTSTART;TZID=America/Chicago:20230405T093000
DTEND;TZID=America/Chicago:20230405T103000
DTSTAMP:20260419T210008
CREATED:20230403T040957Z
LAST-MODIFIED:20230403T041349Z
UID:10000015-1680687000-1680690600@www.gcdowntown.com
SUMMARY:Downtown Discovery - O’Brate Gymnastics Center
DESCRIPTION:909 E Fulton\nDrop-In Fee: $5/child\n9:30am
URL:https://www.gcdowntown.com/event/downtown-discovery-o-brate-gymnastics/
LOCATION:KS
CATEGORIES:Downtown Discovery
ATTACH;FMTTYPE=image/png:https://www.gcdowntown.com/wp-content/uploads/2023/03/Downtown-Discovery-Promo-min.png
END:VEVENT
BEGIN:VEVENT
DTSTART;TZID=America/Chicago:20230331T110000
DTEND;TZID=America/Chicago:20230331T190000
DTSTAMP:20260419T210008
CREATED:20230224T183232Z
LAST-MODIFIED:20230322T055618Z
UID:10000138-1680260400-1680289200@www.gcdowntown.com
SUMMARY:Food Truck Friday
DESCRIPTION:Enjoy a variety of menus from your favorite food trucks while taking in the beautiful atmosphere of Stevens Park in the heart of Downtown. Come Hungry!
URL:https://www.gcdowntown.com/event/food-truck-friday/2023-03-31/
LOCATION:Stevens Park\, Stevens Park\, Garden City\, KS\, United States
CATEGORIES:Food Truck
ATTACH;FMTTYPE=image/png:https://www.gcdowntown.com/wp-content/uploads/2023/02/Food-Truck-Friday-Graphic-min.png
END:VEVENT
BEGIN:VEVENT
DTSTART;TZID=America/Chicago:20230324T110000
DTEND;TZID=America/Chicago:20230324T190000
DTSTAMP:20260419T210008
CREATED:20230224T183232Z
LAST-MODIFIED:20230322T055618Z
UID:10000137-1679655600-1679684400@www.gcdowntown.com
SUMMARY:Food Truck Friday
DESCRIPTION:Enjoy a variety of menus from your favorite food trucks while taking in the beautiful atmosphere of Stevens Park in the heart of Downtown. Come Hungry!
URL:https://www.gcdowntown.com/event/food-truck-friday/2023-03-24/
LOCATION:Stevens Park\, Stevens Park\, Garden City\, KS\, United States
CATEGORIES:Food Truck
ATTACH;FMTTYPE=image/png:https://www.gcdowntown.com/wp-content/uploads/2023/02/Food-Truck-Friday-Graphic-min.png
END:VEVENT
BEGIN:VEVENT
DTSTART;TZID=America/Chicago:20230317T110000
DTEND;TZID=America/Chicago:20230317T190000
DTSTAMP:20260419T210008
CREATED:20230224T183232Z
LAST-MODIFIED:20230322T055618Z
UID:10000136-1679050800-1679079600@www.gcdowntown.com
SUMMARY:Food Truck Friday
DESCRIPTION:Enjoy a variety of menus from your favorite food trucks while taking in the beautiful atmosphere of Stevens Park in the heart of Downtown. Come Hungry!
URL:https://www.gcdowntown.com/event/food-truck-friday/2023-03-17/
LOCATION:Stevens Park\, Stevens Park\, Garden City\, KS\, United States
CATEGORIES:Food Truck
ATTACH;FMTTYPE=image/png:https://www.gcdowntown.com/wp-content/uploads/2023/02/Food-Truck-Friday-Graphic-min.png
END:VEVENT
BEGIN:VEVENT
DTSTART;TZID=America/Chicago:20230310T100000
DTEND;TZID=America/Chicago:20230310T140000
DTSTAMP:20260419T210008
CREATED:20230224T180928Z
LAST-MODIFIED:20230224T180928Z
UID:10000001-1678442400-1678456800@www.gcdowntown.com
SUMMARY:Youth Entrepreneurship Challenge (YEC)
DESCRIPTION:Details coming soon!
URL:https://www.gcdowntown.com/event/youth-entrepreneurship-challenge-yec/
LOCATION:KS
END:VEVENT
END:VCALENDAR